BEGIN:VCALENDAR
VERSION:2.0
PRODID:icalendar-ruby
CALSCALE:GREGORIAN
METHOD:PUBLISH
BEGIN:VTIMEZONE
TZID:Australia/Perth
BEGIN:STANDARD
DTSTART:20090329T020000
TZOFFSETFROM:+0900
TZOFFSETTO:+0800
TZNAME:AWST
END:STANDARD
END:VTIMEZONE
BEGIN:VEVENT
DTSTAMP:20260422T140930Z
UID:inspection_3010207
DTSTART;TZID=Australia/Perth:20260426T103000
DTEND;TZID=Australia/Perth:20260426T110000
CLASS:PUBLIC
CREATED:20260422T163127
DESCRIPTION: 
LAST-MODIFIED:20260422T163127
LOCATION:15 McDougal Way\, BALDIVIS WA 6171\, Australia
SUMMARY:15 McDougal Way\,  Inspection
URL;VALUE=URI:http://www.westcoastproperty.com.au/
END:VEVENT
END:VCALENDAR
