BEGIN:VCALENDAR
VERSION:2.0
PRODID:icalendar-ruby
CALSCALE:GREGORIAN
METHOD:PUBLISH
BEGIN:VTIMEZONE
TZID:Australia/Perth
BEGIN:STANDARD
DTSTART:20090329T020000
TZOFFSETFROM:+0900
TZOFFSETTO:+0800
TZNAME:AWST
END:STANDARD
END:VTIMEZONE
BEGIN:VEVENT
DTSTAMP:20260422T141802Z
UID:inspection_3004907
DTSTART;TZID=Australia/Perth:20260425T100000
DTEND;TZID=Australia/Perth:20260425T103000
CLASS:PUBLIC
CREATED:20260420T110215
DESCRIPTION: 
LAST-MODIFIED:20260420T110215
LOCATION:24 Nyilla Approach\, BALDIVIS WA 6171\, Australia
SUMMARY:24 Nyilla Approach\,  Inspection
URL;VALUE=URI:http://www.westcoastproperty.com.au/
END:VEVENT
END:VCALENDAR
